BEGIN:VCALENDAR
PRODID:-//eluceo/ical//2.0/EN
VERSION:2.0
CALSCALE:GREGORIAN
BEGIN:VEVENT
UID:31a97640b5dc343f6649bbd1b40ef53f
DTSTAMP:20260420T193314Z
SUMMARY:Roger Cohen: The Future of American Leadership in the Middle East 
DESCRIPTION:United Jewish Federation of Utah\nCalendar\nhttps://shalomutah.
 org/united-jewish-federation-of-utah-calendar/roger-cohen-the-future-of-am
 erican-leadership-in-the-middle-east-1449009610\n\nPlease join J Street Ut
 ah for an evening with award-winning New York Times columnist\, Roger Cohe
 n\, as he explores the ever changing landscape of the Middle East\, Israel
 's role within it and what the United States can do to broker a lasting pe
 ace in the region.\n\nRoger Cohen has worked for The New York Times for 25
  years as a foreign correspondent\, foreign editor\, and now columnist. He
  is the author of four books. The latest\, a family memoir entitled "The G
 irl from Human Street: Ghosts of...
DTSTART;TZID=America/Denver:20151209T190000
DTEND;TZID=America/Denver:20151209T204500
END:VEVENT
END:VCALENDAR
