BEGIN:VCALENDAR
PRODID:-//eluceo/ical//2.0/EN
VERSION:2.0
CALSCALE:GREGORIAN
BEGIN:VEVENT
UID:63b9b5a288df0f3ab79dbd3bf03d28aa
DTSTAMP:20260420T073250Z
SUMMARY:Rosh Hashana Brisket Dinner
DESCRIPTION:United Jewish Federation of Utah\nCalendar\nhttps://shalomutah.
 org/united-jewish-federation-of-utah-calendar/rosh-hashana-brisket-dinner-
 1474560161\n\nGet YOUR New Year started off the right way with the vibrant
  Chabad Young SLC community! Begin by exploring the mystical secrets of Ta
 shlich\, be inspired by the roar of the Shofar\, and enjoy a home-style Br
 isket Holiday Dinner! For young Jewish men and women\, ages 21-35.\n\nMond
 ay\, October 3rd\, 2016\nService begins at 6:00 PM\nDinner at 8:00 PM\n\n$
 18 per person\n$30 per couple\n$50 sponsor\n\nRSVP today at jewishutah.com
 /brisket!\n\nShana Tovah!
DTSTART;TZID=America/Denver:20161003T180000
DTEND;TZID=America/Denver:20161003T230000
END:VEVENT
END:VCALENDAR
