BEGIN:VCALENDAR
PRODID:-//eluceo/ical//2.0/EN
VERSION:2.0
CALSCALE:GREGORIAN
BEGIN:VEVENT
UID:5c550db6d67944513f562c87b2bf8784
DTSTAMP:20260421T065632Z
SUMMARY:Rosh Hashanah Day 1
DESCRIPTION:United Jewish Federation of Utah\nCalendar\nhttps://shalomutah.
 org/united-jewish-federation-of-utah-calendar/rosh-hashanah-day-1-15360884
 81\n\nJoin us for Congregation Brith Sholem's Rosh Hashanah Day 1! Service
 s will be led by student Rabbi Sam Stern\, followed by Kiddush lunch at 27
 60 Grant Ave.\, Ogden.
DTSTART;TZID=America/Denver:20180910T093000
DTEND;TZID=America/Denver:20180910T123000
END:VEVENT
END:VCALENDAR
