BEGIN:VCALENDAR
PRODID:-//eluceo/ical//2.0/EN
VERSION:2.0
CALSCALE:GREGORIAN
BEGIN:VEVENT
UID:148293e50259b661ac97b3cf6c39684a
DTSTAMP:20260421T183344Z
SUMMARY:Rosh Hashanah Day 2
DESCRIPTION:United Jewish Federation of Utah\nCalendar\nhttps://shalomutah.
 org/united-jewish-federation-of-utah-calendar/rosh-hashanah-day-2-15360887
 95\n\nJoin us for Congregation Brith Sholem's Rosh Hashanah Day 2! Service
 s will be led by Gary Boyle\, followed by Kiddush lunch at 2760 Grant Ave.
 \, Ogden.
DTSTART;TZID=America/Denver:20180911T100000
DTEND;TZID=America/Denver:20180911T130000
END:VEVENT
END:VCALENDAR
