BEGIN:VCALENDAR
PRODID:-//eluceo/ical//2.0/EN
VERSION:2.0
CALSCALE:GREGORIAN
BEGIN:VEVENT
UID:766d8bb4cc3538aa6ce1dae190d606a8
DTSTAMP:20260420T013938Z
SUMMARY:Round Challah Baking
DESCRIPTION:United Jewish Federation of Utah\nCalendar\nhttps://shalomutah.
 org/united-jewish-federation-of-utah-calendar/round-challah-baking\n\nJoin
  challah-baking maven Candice Sussman who will guide you through
  making delicious challah dough and the intricacies ofcreating a
  beautiful round challah for the New Year! \n\n$36 per person\, lo
 catinog shared after registration \n\nRegister here: https://shalomutah.
 ticketspice.com/rosh-hashanah-challah-baking
DTSTART;TZID=America/Denver:20250921T103000
DTEND;TZID=America/Denver:20250921T120000
END:VEVENT
END:VCALENDAR
