BEGIN:VCALENDAR
PRODID:-//eluceo/ical//2.0/EN
VERSION:2.0
CALSCALE:GREGORIAN
BEGIN:VEVENT
UID:f1f9a60f2a250d7ed8847f9c79687aea
DTSTAMP:20260420T172119Z
SUMMARY:Sake & Sushi in the Sukkah at Kol Ami
DESCRIPTION:United Jewish Federation of Utah\nCalendar\nhttps://shalomutah.
 org/united-jewish-federation-of-utah-calendar/sake--sushi-in-the-sukkah-at
 -kol-ami-1694546447\n\nYoung adults\, ages 21 to 40\, are invited to join 
 us in the Sukkah for a night of socializing\, sake\, and sushi! $15 per pe
 rson. Attendees must be 21+. Please RSVP at www.conkolami.org/sake-in-the-
 sukkah.
DTSTART;TZID=America/Denver:20231005T183000
DTEND;TZID=America/Denver:20231005T200000
END:VEVENT
END:VCALENDAR
