BEGIN:VCALENDAR
PRODID:-//eluceo/ical//2.0/EN
VERSION:2.0
CALSCALE:GREGORIAN
BEGIN:VEVENT
UID:75ffa9194665030c3dd4e78313f77798
DTSTAMP:20260419T171701Z
SUMMARY:Salt Lake Film Society - Israeli Film Tour - Red Carpet Opening Nig
 ht
DESCRIPTION:United Jewish Federation of Utah\nCalendar\nhttps://shalomutah.
 org/united-jewish-federation-of-utah-calendar/salt-lake-film-society---isr
 aeli-film-tour---red-carpet-opening-night-1545413401\n\nThe Salt Lake Film
  Society (Broadway and Tower Theaters) will present an Israeli Film Tour f
 or the community. The goal of the film tour is to add to the cultural core
  of the community. The film series will consist of a Red Carpet Event foll
 owed by a feature film and Q and A by the filmmaker. The following evening
  will consist of three Israeli films that will serve to acquaint the viewe
 r with Israeli life.
DTSTART;TZID=America/Denver:20190312T183000
DTEND;TZID=America/Denver:20190312T220000
END:VEVENT
END:VCALENDAR
