BEGIN:VCALENDAR
PRODID:-//eluceo/ical//2.0/EN
VERSION:2.0
CALSCALE:GREGORIAN
BEGIN:VEVENT
UID:4da646a6196469cfbe2a79252a2869c4
DTSTAMP:20260421T134759Z
SUMMARY:Screening of Schindler's List
DESCRIPTION:United Jewish Federation of Utah\nCalendar\nhttps://shalomutah.
 org/united-jewish-federation-of-utah-calendar/screening-of-schindlers-list
 \n\nSchindler's List
DTSTART;TZID=America/Denver:20130407T180000
DTEND;TZID=America/Denver:20130407T183000
END:VEVENT
END:VCALENDAR
