BEGIN:VCALENDAR
PRODID:-//eluceo/ical//2.0/EN
VERSION:2.0
CALSCALE:GREGORIAN
BEGIN:VEVENT
UID:20c48bbb258c918187cae117917b07bf
DTSTAMP:20260420T094852Z
SUMMARY:Scripture in Dialogue: The Exodus in Text and Tradition
DESCRIPTION:United Jewish Federation of Utah\nCalendar\nhttps://shalomutah.
 org/united-jewish-federation-of-utah-calendar/scripture-in-dialogue-the-ex
 odus-in-text-and-tradition-1529971477\n\nFundamentally\, the Hebrew Bible 
 is a dialogical book.  It enters into dialogue with its constituent texts\
 , its readers in Judaism\, and the world beyond. As part of large moral tr
 aditions worldwide\,  the Hebrew Bible  is an excellent starting point to 
 address the moral challengers of our time.
DTSTART;TZID=America/Denver:20180726T200000
DTEND;TZID=America/Denver:20180726T213000
END:VEVENT
END:VCALENDAR
