BEGIN:VCALENDAR
PRODID:-//eluceo/ical//2.0/EN
VERSION:2.0
CALSCALE:GREGORIAN
BEGIN:VEVENT
UID:f3cac660c944e5a69314b682d69ec363
DTSTAMP:20260422T114835Z
SUMMARY:Seder411: It\;s more than Matzah
DESCRIPTION:United Jewish Federation of Utah\nCalendar\nhttps://shalomutah.
 org/united-jewish-federation-of-utah-calendar/seder411-its-more-than-matza
 h-1489609647\n\nJoin us at THS for an afternoon of Passover preparation\, 
 crafts\, recipes\, story and song for all ages.
DTSTART;TZID=America/Denver:20170409T150000
DTEND;TZID=America/Denver:20170409T170000
END:VEVENT
END:VCALENDAR
