BEGIN:VCALENDAR
PRODID:-//eluceo/ical//2.0/EN
VERSION:2.0
CALSCALE:GREGORIAN
BEGIN:VEVENT
UID:f4a7f3e55f2e69a783f1d92cba1c292a
DTSTAMP:20260421T160631Z
SUMMARY:Senior Hanukkah Luncheon
DESCRIPTION:United Jewish Federation of Utah\nCalendar\nhttps://shalomutah.
 org/united-jewish-federation-of-utah-calendar/senior-hanukkah-luncheon-147
 8136988\n\nCome and enjoy and great lunch\, with latkes of course\, provid
 ed by NCJW volunteers. Listen to the story of Hanukkah\, play games\, sing
  songs\, and talk with friends and acquaintances. All this for free! Trans
 portation can be provided. Contact: Carla Cantor at 801581-0098 or ccantor
 @slcjcc.org. 
DTSTART;TZID=America/Denver:20161221T130000
DTEND;TZID=America/Denver:20161221T133000
END:VEVENT
END:VCALENDAR
