BEGIN:VCALENDAR
PRODID:-//eluceo/ical//2.0/EN
VERSION:2.0
CALSCALE:GREGORIAN
BEGIN:VEVENT
UID:0dbf146a1d8e2b756db4ecf0c2b2cb22
DTSTAMP:20260420T010631Z
SUMMARY:Shabbat Sheni - Second Saturday
DESCRIPTION:United Jewish Federation of Utah\nCalendar\nhttps://shalomutah.
 org/united-jewish-federation-of-utah-calendar/shabbat-sheni---second-satur
 day-1451939102\n\nShabbat Programming for the whole family
DTSTART;TZID=America/Denver:20160109T090000
DTEND;TZID=America/Denver:20160109T120000
END:VEVENT
END:VCALENDAR
