BEGIN:VCALENDAR
PRODID:-//eluceo/ical//2.0/EN
VERSION:2.0
CALSCALE:GREGORIAN
BEGIN:VEVENT
UID:d92812df98aa7c5eb477d086c1c79594
DTSTAMP:20260421T102017Z
SUMMARY:Shabbat Sheni - Second Saturday
DESCRIPTION:United Jewish Federation of Utah\nCalendar\nhttps://shalomutah.
 org/united-jewish-federation-of-utah-calendar/shabbat-sheni---second-satur
 day-1466455832\n\n9:00 a.m. "Tot" Shabbat with songs and stories for young
 er children and their families.\n10:00 a.m. Torah Service with the whole c
 ommunity.\n11:00 a.m. Discussion and activities for children in grades 3 t
 hrough 6.
DTSTART;TZID=America/Denver:20160709T090000
DTEND;TZID=America/Denver:20160709T120000
END:VEVENT
END:VCALENDAR
