BEGIN:VCALENDAR
PRODID:-//eluceo/ical//2.0/EN
VERSION:2.0
CALSCALE:GREGORIAN
BEGIN:VEVENT
UID:c5e847f20e72072a332e3044b6b0582e
DTSTAMP:20260420T143719Z
SUMMARY:Shabbat Under The Stars II
DESCRIPTION:United Jewish Federation of Utah\nCalendar\nhttps://shalomutah.
 org/united-jewish-federation-of-utah-calendar/shabbat-under-the-stars-ii-1
 469206560\n\nLet's do it again! Join together with other Young Jewish Adul
 ts from across Utah\, for a Friday night to remember! Home-cooked Shabbat 
 dinner\, fully loaded cocktail bar\, thought provoking discussion and grea
 t people all around! An evening for Young Jewish men & women\, ages 21-35.
 $15 per person\, $25 per couple\, $50 sponsor
DTSTART;TZID=America/Denver:20160826T203000
DTEND;TZID=America/Denver:20160826T233000
END:VEVENT
END:VCALENDAR
