BEGIN:VCALENDAR
PRODID:-//eluceo/ical//2.0/EN
VERSION:2.0
CALSCALE:GREGORIAN
BEGIN:VEVENT
UID:8fb578a43414df0b9fc3f2cca41ee461
DTSTAMP:20260421T182202Z
SUMMARY:Shalom on the Range
DESCRIPTION:United Jewish Federation of Utah\nCalendar\nhttps://shalomutah.
 org/united-jewish-federation-of-utah-calendar/shalom-on-the-range-14797615
 10\n\nThis will be the JCC's 25th annual Shalom on the Range fundraiser an
 d anticipate hosting over 450 friends at our Center that will browse and b
 id on items\, enjoy sunset cocktail hour\, dinner and a live auction all w
 hile supporting the JCC and the scholarships that truly make us a center f
 or the whole community.
DTSTART;TZID=America/Denver:20170330T170000
DTEND;TZID=America/Denver:20170330T230000
END:VEVENT
END:VCALENDAR
