BEGIN:VCALENDAR
PRODID:-//eluceo/ical//2.0/EN
VERSION:2.0
CALSCALE:GREGORIAN
BEGIN:VEVENT
UID:fc4d5cef1560d9de25cee6900b1e79f5
DTSTAMP:20260420T024829Z
SUMMARY:Shalom on the Range
DESCRIPTION:United Jewish Federation of Utah\nCalendar\nhttps://shalomutah.
 org/united-jewish-federation-of-utah-calendar/shalom-on-the-range-15454147
 26\n\nShalom on the Range is the annual fundraiser for the  I J and Jeann
 é Wagner Jewish Community Center. The event includes dinner\, drinks and 
 schmoozing while supporting the Scholarship Program and costs of running t
 he JCC.
DTSTART;TZID=America/Denver:20190404T170000
DTEND;TZID=America/Denver:20190404T220000
END:VEVENT
END:VCALENDAR
