BEGIN:VCALENDAR
PRODID:-//eluceo/ical//2.0/EN
VERSION:2.0
CALSCALE:GREGORIAN
BEGIN:VEVENT
UID:e380a071c9441b8b0279fbead289963d
DTSTAMP:20260421T201214Z
SUMMARY:Shared Tastes: Communal Food & Collective Memory
DESCRIPTION:United Jewish Federation of Utah\nCalendar\nhttps://shalomutah.
 org/united-jewish-federation-of-utah-calendar/shared-tastes-communal-food-
 -collective-memory-1545331850\n\nThis session will lay out the broad strok
 es of Jewish history as told through dessert. You will not be required to 
 taste everything\, but your grade will be lowered if you don't.\n \n\nCli
 ck the register button to RSVP for the event.
DTSTART;TZID=America/Denver:20190220T190000
DTEND;TZID=America/Denver:20190220T203000
END:VEVENT
END:VCALENDAR
