BEGIN:VCALENDAR
PRODID:-//eluceo/ical//2.0/EN
VERSION:2.0
CALSCALE:GREGORIAN
BEGIN:VEVENT
UID:548829c992354f9dd05c83d288edaaf6
DTSTAMP:20260420T052127Z
SUMMARY:Shavuot
DESCRIPTION:United Jewish Federation of Utah\nCalendar\nhttps://shalomutah.
 org/united-jewish-federation-of-utah-calendar/shavuot-1556726497\n\nJoin o
 ur very own ‘Moses’ on his journey to receive the Ten Commandments cel
 ebrating Shavuot!\nHike the “Sinai” followed by a dairy brunch sponsor
 ed by Women of Har Shalom.\nWear comfortable shoes for the short hike with
  Moses on the trail behind THS.\nAll ages welcome!
DTSTART;TZID=America/Denver:20190609T100000
DTEND;TZID=America/Denver:20190609T120000
END:VEVENT
END:VCALENDAR
