BEGIN:VCALENDAR
PRODID:-//eluceo/ical//2.0/EN
VERSION:2.0
CALSCALE:GREGORIAN
BEGIN:VEVENT
UID:509a76b74a23c4ab8c517e43b732f573
DTSTAMP:20260420T010701Z
SUMMARY:Shavuot: Study\, Pray\, & Celebrate!
DESCRIPTION:United Jewish Federation of Utah\nCalendar\nhttps://shalomutah.
 org/united-jewish-federation-of-utah-calendar/shavuot-study-pray--celebrat
 e-1495650145\n\nFrom 7:00pm - 8:30pm we will learn with Jody Katz\, Mahala
  Rudell\, Jim Ireland\, and Liz Paige. At 8:30pm please join us for a potl
 uck dairy dinner\, followed by a teaching from our Scholar-in-Residence\, 
 services\, and more study over coffee and dessert.
DTSTART;TZID=America/Denver:20170530T190000
DTEND;TZID=America/Denver:20170530T233000
END:VEVENT
END:VCALENDAR
