BEGIN:VCALENDAR
PRODID:-//eluceo/ical//2.0/EN
VERSION:2.0
CALSCALE:GREGORIAN
BEGIN:VEVENT
UID:56ade4f202edd168e890ca3f2dcf64e6
DTSTAMP:20260422T021125Z
SUMMARY:Shine On" Hanukkah Concert
DESCRIPTION:United Jewish Federation of Utah\nCalendar\nhttps://shalomutah.
 org/united-jewish-federation-of-utah-calendar/shine-on-hanukkah-concert\n\
 nJoin us for a fun evening of music and Hanukkah songs that will uplift an
 d inspire!\n\nAbbie’s new album\, ‘Shine on’ puts to music a world i
 n which we feel hope and a desire to let our lights shine.\n\nAbbie's Bio:
 \nAbbie has over a decade of experience as a professional musician. She is
  classically trained in vocals\, is a singer/songwriter\, and has a backgr
 ound in piano\, guitar\, and saxophone. She has sung at Carnegie Hall as w
 ell as performed at NBA games!\nShe is the founder of The I...
DTSTART;TZID=America/Denver:20201215T190000
DTEND;TZID=America/Denver:20201215T200000
END:VEVENT
END:VCALENDAR
