BEGIN:VCALENDAR
PRODID:-//eluceo/ical//2.0/EN
VERSION:2.0
CALSCALE:GREGORIAN
BEGIN:VEVENT
UID:4a8615f882c11e80bff9c29388cde194
DTSTAMP:20260420T205758Z
SUMMARY:Shofar Factory
DESCRIPTION:United Jewish Federation of Utah\nCalendar\nhttps://shalomutah.
 org/united-jewish-federation-of-utah-calendar/shofar-factory-1692143790\n\
 nCome to the JCC for Shofar Factory! There will be a live demonstration\, 
 and you can make your own shofar. There will be treats and fun for the who
 le family! Free of charge. You must RSVP to secure your spot at www.jewish
 utah.com/shofarfactory
DTSTART;TZID=America/Denver:20230910T150000
DTEND;TZID=America/Denver:20230910T170000
END:VEVENT
END:VCALENDAR
