BEGIN:VCALENDAR
PRODID:-//eluceo/ical//2.0/EN
VERSION:2.0
CALSCALE:GREGORIAN
BEGIN:VEVENT
UID:c6803c97db5d93c38facd2ce1dbb239f
DTSTAMP:20260421T174100Z
SUMMARY:Simchat Torah
DESCRIPTION:United Jewish Federation of Utah\nCalendar\nhttps://shalomutah.
 org/united-jewish-federation-of-utah-calendar/simchat-torah-1476987800\n\n
 Join us at Temple Har Shalom as we celebrate Simchat Torah.
DTSTART;TZID=America/Denver:20161028T183000
DTEND;TZID=America/Denver:20161028T193000
END:VEVENT
END:VCALENDAR
