BEGIN:VCALENDAR
PRODID:-//eluceo/ical//2.0/EN
VERSION:2.0
CALSCALE:GREGORIAN
BEGIN:VEVENT
UID:8270413b1647dc5922aef1d3b8a12350
DTSTAMP:20260421T155553Z
SUMMARY:Sister Wives at Summer Concert Series
DESCRIPTION:United Jewish Federation of Utah\nCalendar\nhttps://shalomutah.
 org/united-jewish-federation-of-utah-calendar/sister-wives-at-summer-conce
 rt-series-1462915326\n\nEnjoy the first of 3 free concerts this summer out
  on the patio with spectacular views and great music from Sister Wives\, a
  bluegrass/folk band based out of the northwest region. Food and drinks wi
 ll be available for purchase\, alongside a cash bar. Outside drinks are no
 t allowed\, but attendees may bring their own food.
DTSTART;TZID=America/Denver:20160629T190000
DTEND;TZID=America/Denver:20160629T210000
END:VEVENT
END:VCALENDAR
