BEGIN:VCALENDAR
PRODID:-//eluceo/ical//2.0/EN
VERSION:2.0
CALSCALE:GREGORIAN
BEGIN:VEVENT
UID:6c7fac7c3ffa3a0e313a7422b4e793d0
DTSTAMP:20260420T160643Z
SUMMARY:SLC Loves Wendover
DESCRIPTION:United Jewish Federation of Utah\nCalendar\nhttps://shalomutah.
 org/united-jewish-federation-of-utah-calendar/slc-loves-wendover-155562401
 4\n\nFascinated by Jewish gangsters? So are we! Join us for an exciting da
 y exploring Wendover’s best Casinos. Our experience boasts round-trip tr
 avel to/from Wendover\, chips\, lunch\, in-depth look at the history of Je
 wish gambling\, Bugsy Siegel\, Meyer Lansky and more.
DTSTART;TZID=America/Denver:20190804T084500
DTEND;TZID=America/Denver:20190804T170000
END:VEVENT
END:VCALENDAR
