BEGIN:VCALENDAR
PRODID:-//eluceo/ical//2.0/EN
VERSION:2.0
CALSCALE:GREGORIAN
BEGIN:VEVENT
UID:90b75928e5181421f2b51e45271e7f5d
DTSTAMP:20260424T062525Z
SUMMARY:Spotlight on Orit Sommer
DESCRIPTION:United Jewish Federation of Utah\nCalendar\nhttps://shalomutah.
 org/united-jewish-federation-of-utah-calendar/spotlight-on-orit-sommer\n\n
 Tribute Dinner for Orit
DTSTART;TZID=America/Denver:20130428T170000
DTEND;TZID=America/Denver:20130428T203000
END:VEVENT
END:VCALENDAR
