BEGIN:VCALENDAR
PRODID:-//eluceo/ical//2.0/EN
VERSION:2.0
CALSCALE:GREGORIAN
BEGIN:VEVENT
UID:dfa9a984333301555f273807407751b6
DTSTAMP:20260421T235321Z
SUMMARY:Stop the Bleed Training
DESCRIPTION:United Jewish Federation of Utah\nCalendar\nhttps://shalomutah.
 org/united-jewish-federation-of-utah-calendar/stop-the-bleed-feb024-456604
 \n\nThrough our STOP THE BLEED® course\, you’ll gain the ability to rec
 ognize life-threatening bleeding and intervene effectively. Stop the Bleed
  is a national program\, like Red Cross First Aid and CPR\, designed to tr
 ain people how to stop potentially fatal bleeding. This training is releva
 nt to all aspects of our lives\, outdoor recreation\, household accidents\
 , etc. You'll learn the concepts of wound pressure and packing skills\, a
 nd learn how to use a tourniquet on yourself and others. The per...
DTSTART;TZID=America/Denver:20240220T190000
DTEND;TZID=America/Denver:20240220T200000
END:VEVENT
END:VCALENDAR
