BEGIN:VCALENDAR
PRODID:-//eluceo/ical//2.0/EN
VERSION:2.0
CALSCALE:GREGORIAN
BEGIN:VEVENT
UID:f2c3e62f6ab871ac5d94afcb12e78a9d
DTSTAMP:20260423T024309Z
SUMMARY:Student Unity Summit
DESCRIPTION:United Jewish Federation of Utah\nCalendar\nhttps://shalomutah.
 org/united-jewish-federation-of-utah-calendar/student-unity-summit\n\nThe 
 first Utah Student Unit Summit sponsored by the Community Partners Against
  Hate.\n\nInformation coming soon.\n\nSummit Sponsors: Community Partners 
 Against Hate\, Department of Homeland Security for the State of Utah\, Sal
 t Lake School District\, Salt Lake Mayor’s Office\, Utah Department of P
 ublic Safety\, Utah Department of Health and Human Services\, My Brother
 ’s Keeper\, One Table (SLC)\, State of Utah Representatives\, YouthCity 
 Government (SLC)\, Salt Lake Human Rights Commission\, IncludE...
DTSTART;TZID=America/Denver:20241115T084500
DTEND;TZID=America/Denver:20241115T120000
END:VEVENT
END:VCALENDAR
