BEGIN:VCALENDAR
PRODID:-//eluceo/ical//2.0/EN
VERSION:2.0
CALSCALE:GREGORIAN
BEGIN:VEVENT
UID:5fad777f5974ed4135c66d06ab308935
DTSTAMP:20260420T124223Z
SUMMARY:Summer Concert Series at Kol Ami
DESCRIPTION:United Jewish Federation of Utah\nCalendar\nhttps://shalomutah.
 org/united-jewish-federation-of-utah-calendar/summer-concert-series-at-kol
 -ami-1719507947\n\nJoin us for a Classical Summer Concert series! The seco
 nd one\, on August 15th\, will be featuring Joel Rosenberg\, Marcel Bowman
 \, and Monika Bowman.\n\nThese event are open to the public! Please RSVP a
 t conkolami.org/summer-concert-series\nSuggested donations start at $18. A
 ll proceeds benefit Kol Ami!\n\n• • •\n\nMusic of the Beatles\, Neil
  Diamond\, and Mozart with musicians Marcel Bowman (Violin)\, Joel Rosenbe
 rg (Viola)\, and Monika Bowman (Cello).
DTSTART;TZID=America/Denver:20240815T193000
DTEND;TZID=America/Denver:20240815T210000
END:VEVENT
END:VCALENDAR
