BEGIN:VCALENDAR
PRODID:-//eluceo/ical//2.0/EN
VERSION:2.0
CALSCALE:GREGORIAN
BEGIN:VEVENT
UID:96537e6c8262e96ac14a0a57ddfe6b40
DTSTAMP:20260420T151147Z
SUMMARY:Summer Concert Series at the JCC featuring The Fabulous Flynnstones
DESCRIPTION:United Jewish Federation of Utah\nCalendar\nhttps://shalomutah.
 org/united-jewish-federation-of-utah-calendar/summer-concert-series-at-the
 -jcc-featuring-the-fabulous-flynnstones-1563913363\n\nThe Fabulous Flynnst
 ones are seasoned musicians that play they own combination of jazz\, funk\
 , latin and blues\, along with originals. You are sure to enjoy their show
 !
DTSTART;TZID=America/Denver:20190808T190000
DTEND;TZID=America/Denver:20190808T210000
END:VEVENT
END:VCALENDAR
