BEGIN:VCALENDAR
PRODID:-//eluceo/ical//2.0/EN
VERSION:2.0
CALSCALE:GREGORIAN
BEGIN:VEVENT
UID:47a0c996f51e2dc11d8b95abd8b97f49
DTSTAMP:20260421T042124Z
SUMMARY:Summer Party - Jewish Federation
DESCRIPTION:United Jewish Federation of Utah\nCalendar\nhttps://shalomutah.
 org/united-jewish-federation-of-utah-calendar/summer-party---jewish-federa
 tion-1431631954\n\nUnited Jewish Federation of Utah\nAnnual Summer Party\n
 Tuesday\, August 4th\, 2015\nLouland Falls in Parleys Canyon\n6:30pm
DTSTART;TZID=America/Denver:20150804T183000
DTEND;TZID=America/Denver:20150804T220000
END:VEVENT
END:VCALENDAR
