BEGIN:VCALENDAR
PRODID:-//eluceo/ical//2.0/EN
VERSION:2.0
CALSCALE:GREGORIAN
BEGIN:VEVENT
UID:405cf89148ab0f879f7d2d1c4edb87ec
DTSTAMP:20260423T043644Z
SUMMARY:Summer Party
DESCRIPTION:United Jewish Federation of Utah\nCalendar\nhttps://shalomutah.
 org/united-jewish-federation-of-utah-calendar/summer-party-024\n\nTickets 
 to UJFU's Annual Summer Party are sold out!\n\nIf you are interested in jo
 ining the cancelation list\, contact Associate Director\, Liz Paige.\n\nlp
 aige@shalomutah.org\n\n801-581-0102
DTSTART;TZID=America/Denver:20240804T180000
DTEND;TZID=America/Denver:20240804T210000
END:VEVENT
END:VCALENDAR
