BEGIN:VCALENDAR
PRODID:-//eluceo/ical//2.0/EN
VERSION:2.0
CALSCALE:GREGORIAN
BEGIN:VEVENT
UID:be5830ebd59e6144caa84f86978d8069
DTSTAMP:20260420T173844Z
SUMMARY:Summer Sleep Away Camp Night 
DESCRIPTION:United Jewish Federation of Utah\nCalendar\nhttps://shalomutah.
 org/united-jewish-federation-of-utah-calendar/summer-sleep-away-camp-night
 -1421472315\n\nCome learn about the possibility of Jewish summer camps for
  your children at our &quot\;Summer Camp Night&quot\; featuring presentati
 ons by: Camp Shwayder\,  B&#039\;nai B&#039\;rith Camp\, Camp Kalsman\, Ca
 mp Solomon Schechter\, Camp Nageela West\, JCC Ranch Camp\nAll camp age ch
 ildren and their parents are invited to join us for this special lounge ni
 ght.  Representatives from these camps will be present to discuss their ca
 mps and to lead us in camp activities! \nThis is a great chance to learn a
 bout the different...
DTSTART;TZID=America/Denver:20150121T173000
DTEND;TZID=America/Denver:20150121T204500
END:VEVENT
END:VCALENDAR
