BEGIN:VCALENDAR
PRODID:-//eluceo/ical//2.0/EN
VERSION:2.0
CALSCALE:GREGORIAN
BEGIN:VEVENT
UID:f66871b1bb33ad4dfa32ddf24ec76579
DTSTAMP:20260420T120439Z
SUMMARY:Sundance Shabbat Lounge
DESCRIPTION:United Jewish Federation of Utah\nCalendar\nhttps://shalomutah.
 org/united-jewish-federation-of-utah-calendar/sundance-shabbat-lounge\n\nU
 nited Jewish Federation of Utah is proud to be a Sponsor of Shabbat Lounge
 \, presented by Shabbat Tent\, at the Sundance Film Festival.\n\nA bit abo
 ut the program: Shabbat Lounge is the only destination to visit during the
  Festival for inspiration\, relaxation and a spiritual lift. Shabbat Loun
 ge is open to everyone with a welcoming spirit\, delicious food and warm r
 efreshments.\n\nShabbat Dinner | Fri Jan 20 @ 4:45 PM \n\nEnjoy an elega
 nt & deliciously catered dinner.\n\nFriday Night One...
DTSTART;TZID=America/Denver:20230120T160500
DTEND;TZID=America/Denver:20230122T190000
END:VEVENT
END:VCALENDAR
