BEGIN:VCALENDAR
PRODID:-//eluceo/ical//2.0/EN
VERSION:2.0
CALSCALE:GREGORIAN
BEGIN:VEVENT
UID:4e1d050eb7054d8ee34a5916369adab8
DTSTAMP:20260423T142632Z
SUMMARY:Sweeter than Honey: Jewish History as told through Dessert
DESCRIPTION:United Jewish Federation of Utah\nCalendar\nhttps://shalomutah.
 org/united-jewish-federation-of-utah-calendar/sweeter-than-honey-jewish-hi
 story-as-told-through-dessert-1558113939\n\nThe February session sold out\
 , but due to popular demand\, this class will run again on August 7!\n3000
  years\, 8 desserts\, 90 minutes. Taught by Michael Greenfield\nOpen to al
 l. Free to THS members\, $18 for non-members.
DTSTART;TZID=America/Denver:20190807T190000
DTEND;TZID=America/Denver:20190807T203000
END:VEVENT
END:VCALENDAR
