BEGIN:VCALENDAR
PRODID:-//eluceo/ical//2.0/EN
VERSION:2.0
CALSCALE:GREGORIAN
BEGIN:VEVENT
UID:954c8c08eb85e9b1e5e7db4831839a32
DTSTAMP:20260420T224854Z
SUMMARY:SYNKOFA Summer Concert
DESCRIPTION:United Jewish Federation of Utah\nCalendar\nhttps://shalomutah.
 org/united-jewish-federation-of-utah-calendar/synkofa-summer-concert-14688
 75461\n\nThe World Music band SYNKOFA builds upon innovative folk song arr
 angements of violinist Theresa Ellis\, original compositions of guitarist 
 Eric McKenna and the solos of upright bassist Steve Wesson. Together\, the
 y play Celtic roots music with Gypsy Jazz flair. They carry the audience t
 o the misty Irish Highlands\, the hot jazz clubs of 1950’s Paris\, the s
 tone cathedrals of the Renaissance\, to the porch steps of Appalachia\, an
 d beyond!
DTSTART;TZID=America/Denver:20160811T190000
DTEND;TZID=America/Denver:20160811T210000
END:VEVENT
END:VCALENDAR
