BEGIN:VCALENDAR
PRODID:-//eluceo/ical//2.0/EN
VERSION:2.0
CALSCALE:GREGORIAN
BEGIN:VEVENT
UID:e8375d1e644b388f0faad8b4fabbc2c0
DTSTAMP:20260420T094818Z
SUMMARY:Tashlich Services
DESCRIPTION:United Jewish Federation of Utah\nCalendar\nhttps://shalomutah.
 org/united-jewish-federation-of-utah-calendar/tashlich-services-1536088656
 \n\nJoin us for Congregation Brith Sholem's Tashlich Services led by Stude
 nt Rabbi Sam Stern at the Ogden River Parkway bridge near Slackwater Pizza
  – 16th & Washington.
DTSTART;TZID=America/Denver:20180910T173000
DTEND;TZID=America/Denver:20180910T183000
END:VEVENT
END:VCALENDAR
