BEGIN:VCALENDAR
PRODID:-//eluceo/ical//2.0/EN
VERSION:2.0
CALSCALE:GREGORIAN
BEGIN:VEVENT
UID:c193f6983686f4dee99cc2f6e4282c62
DTSTAMP:20260423T044532Z
SUMMARY:Tea Time with Talia
DESCRIPTION:United Jewish Federation of Utah\nCalendar\nhttps://shalomutah.
 org/united-jewish-federation-of-utah-calendar/tea-time-with-talia-16061566
 48\n\nMy Home Town - Beit Shemesh\nThis class will be about the town i gre
 w up in\, Beit Shemesh\, about the people who live in Beit Shemesh and how
  different they are from each other. I will also talk about feminism in an
  Orthodox Jewish world and stories about growing up in a town that restric
 ts some basic women's rights. I will describe what it's like to be Modern 
 Orthodox in israel\, and my choice to leave that.\n\nPlease register with 
 this link:  https://us02web.zoom.us/meeting/register/tZUlc--...
DTSTART;TZID=America/Denver:20201203T160000
DTEND;TZID=America/Denver:20201203T170000
END:VEVENT
END:VCALENDAR
