BEGIN:VCALENDAR
PRODID:-//eluceo/ical//2.0/EN
VERSION:2.0
CALSCALE:GREGORIAN
BEGIN:VEVENT
UID:b9db8636306caee664ebece126227089
DTSTAMP:20260420T161950Z
SUMMARY:Teens and Sleep - JFS Community Lecture Series
DESCRIPTION:United Jewish Federation of Utah\nCalendar\nhttps://shalomutah.
 org/united-jewish-federation-of-utah-calendar/teens-and-sleep---jfs-commun
 ity-lecture-series-1452714925\n\nCommunity Lecture free and open to the pu
 blic. Hosted by Jewish Family Service.\nTeens and Sleep  \nSleep is key! A
 s a parent\, how do you know if your teen is getting enough ZZZs?  \nDr. L
 ori Neeleman of Intermountain Healthcare will discuss common myths and per
 ceptions about adolescent sleep\; what is considered normal and when you s
 hould be concerned and seek additional help. Teens welcome!  \nPlease RSVP
  to 801.746.4334
DTSTART;TZID=America/Denver:20160210T190000
DTEND;TZID=America/Denver:20160210T200000
END:VEVENT
END:VCALENDAR
