BEGIN:VCALENDAR
PRODID:-//eluceo/ical//2.0/EN
VERSION:2.0
CALSCALE:GREGORIAN
BEGIN:VEVENT
UID:4145e13bd46cffb4e95568002e1e4f1e
DTSTAMP:20260420T180435Z
SUMMARY:Temple Har Shalom 2017 Chanukah Party
DESCRIPTION:United Jewish Federation of Utah\nCalendar\nhttps://shalomutah.
 org/united-jewish-federation-of-utah-calendar/temple-har-shalom-2017-chanu
 kah-party-1510958725\n\nTHS Chanukah Party 2017\nSaturday\, December 16th 
 2017\n5:30- Latke-thirty\nFabulous twisted balloon creations\nAn amazing m
 agical performance\nCreative cookie decorating\nFestive beverages for adul
 ts\nDinner & Latkes for Everyone!\nTicket Prices Prior to December 3\, 201
 7\nAdult members: $30\, Adult Non-Members: $50\,\nKids 5-18: $15 and kids 
 4 and under FREE\nTicket Prices After December 3\, 2017\nAdult members: $4
 0\, Adult Non-Members: $60\,\nKids 5-18: $20 and kids 4 and under FREE\nPl
 ease use o...
DTSTART;TZID=America/Denver:20171216T173000
DTEND;TZID=America/Denver:20171216T220000
END:VEVENT
END:VCALENDAR
