BEGIN:VCALENDAR
PRODID:-//eluceo/ical//2.0/EN
VERSION:2.0
CALSCALE:GREGORIAN
BEGIN:VEVENT
UID:97dc16baf6192ca4b5c8e94aadedba24
DTSTAMP:20260420T131433Z
SUMMARY:Temple Har Shalom Adult Purim Celebration
DESCRIPTION:United Jewish Federation of Utah\nCalendar\nhttps://shalomutah.
 org/united-jewish-federation-of-utah-calendar/temple-har-shalom-adult-puri
 m-celebration-1517260088\n\nPotluck\, Drinks (BYOBeer/Wine only)\, Purim S
 piel and Megillah Reading.\nPerformers\, singers\, and musicians for the P
 urim Spiel are needed! No talent of previous performing experience require
 d.\nThe Spiel Script will be provided.\nLike the best thins in life\, it's
  FREE.\nPlease contact Nancy Freifeld at njif43@gmail for food assignments
 .
DTSTART;TZID=America/Denver:20180228T183000
DTEND;TZID=America/Denver:20180228T213000
END:VEVENT
END:VCALENDAR
