BEGIN:VCALENDAR
PRODID:-//eluceo/ical//2.0/EN
VERSION:2.0
CALSCALE:GREGORIAN
BEGIN:VEVENT
UID:720c5b2c2064738f093260ded8c607cb
DTSTAMP:20260421T011821Z
SUMMARY:Temple Har Shalom Comedy Night
DESCRIPTION:United Jewish Federation of Utah\nCalendar\nhttps://shalomutah.
 org/united-jewish-federation-of-utah-calendar/temple-har-shalom-comedy-nig
 ht-1517256948\n\nPlease join us for a winter evening of friends\, laughter
  and recognition. Temple Har Shalom Comedy Night featuring Monica Piper (s
 olo star of "Not That Jewish: at the New Your World Stages in New York).\n
 Honoring this year's Temple Har Shalom Habonim Awards recipients Susan & R
 oger Arsht and Beano Solomon.\nSignature cocktails and Pre-Show Supper: 6:
 00 pm\nAward presentation\, Dessert and comedy show by Monica Piper: 7:00 
 pm\n$135 per person\n$1200 per table of 10
DTSTART;TZID=America/Denver:20180222T180000
DTEND;TZID=America/Denver:20180222T220000
END:VEVENT
END:VCALENDAR
