BEGIN:VCALENDAR
PRODID:-//eluceo/ical//2.0/EN
VERSION:2.0
CALSCALE:GREGORIAN
BEGIN:VEVENT
UID:fe1ea3bf3e7cb15b9823b5a9f12d175e
DTSTAMP:20260420T211954Z
SUMMARY:Temple Har Shalom Community Seder
DESCRIPTION:United Jewish Federation of Utah\nCalendar\nhttps://shalomutah.
 org/united-jewish-federation-of-utah-calendar/temple-har-shalom-community-
 seder-1489609511\n\nTemple Har Shalom Second night Seder
DTSTART;TZID=America/Denver:20170411T173000
DTEND;TZID=America/Denver:20170411T203000
END:VEVENT
END:VCALENDAR
