BEGIN:VCALENDAR
PRODID:-//eluceo/ical//2.0/EN
VERSION:2.0
CALSCALE:GREGORIAN
BEGIN:VEVENT
UID:d2dac2f021c01c2691935712647dae9c
DTSTAMP:20260420T141739Z
SUMMARY:Temple Har Shalom Community Seder
DESCRIPTION:United Jewish Federation of Utah\nCalendar\nhttps://shalomutah.
 org/united-jewish-federation-of-utah-calendar/temple-har-shalom-community-
 seder-1519756400\n\nReserve your seat today!\nPlease Join Us\nSaturday\, M
 arch 31st at 5:30 pm\nTHS Social Hall\n\nMembers: $35.00\nNon-Members: $45
 .00\nChildren (5-16): $15.00\nChildren (4 and under): Free
DTSTART;TZID=America/Denver:20180331T173000
DTEND;TZID=America/Denver:20180331T203000
END:VEVENT
END:VCALENDAR
