BEGIN:VCALENDAR
PRODID:-//eluceo/ical//2.0/EN
VERSION:2.0
CALSCALE:GREGORIAN
BEGIN:VEVENT
UID:c8fc27ceea2545137d9c2388336d9362
DTSTAMP:20260421T155601Z
SUMMARY:Temple Har Shalom Family Day
DESCRIPTION:United Jewish Federation of Utah\nCalendar\nhttps://shalomutah.
 org/united-jewish-federation-of-utah-calendar/temple-har-shalom-family-day
 -1439997326\n\nTemple Har Shalom Family Day Sunday\, August 30th. Activiti
 es all day for the entire family! Pot Luck BBQ at\nTemple Har Shalom\, 5:0
 0 pm.\nPlease RSVP to Deb Sheldon: deb@templeharshalom.com
DTSTART;TZID=America/Denver:20150830T090000
DTEND;TZID=America/Denver:20150830T203000
END:VEVENT
END:VCALENDAR
