BEGIN:VCALENDAR
PRODID:-//eluceo/ical//2.0/EN
VERSION:2.0
CALSCALE:GREGORIAN
BEGIN:VEVENT
UID:f2b68472e1301733db2c12daf99390fc
DTSTAMP:20260420T131726Z
SUMMARY:Temple Har Shalom Family Shabbat and Purim Celebration
DESCRIPTION:United Jewish Federation of Utah\nCalendar\nhttps://shalomutah.
 org/united-jewish-federation-of-utah-calendar/temple-har-shalom-family-sha
 bbat-and-purim-celebration-1517260326\n\nJoin us for a costume parade as w
 e shake our groggers\, eat Hamantaschen and celebrate together.\nAll Ages 
 Welcome!
DTSTART;TZID=America/Denver:20180302T183000
DTEND;TZID=America/Denver:20180302T200000
END:VEVENT
END:VCALENDAR
