BEGIN:VCALENDAR
PRODID:-//eluceo/ical//2.0/EN
VERSION:2.0
CALSCALE:GREGORIAN
BEGIN:VEVENT
UID:74fb6a2745a26c432954c68c50d14213
DTSTAMP:20260420T010551Z
SUMMARY:Temple Har Shalom Winter Bash
DESCRIPTION:United Jewish Federation of Utah\nCalendar\nhttps://shalomutah.
 org/united-jewish-federation-of-utah-calendar/temple-har-shalom-winter-bas
 h-1483987707\n\nTemple Har Shalom's Winter Bash\na night of friends\, fun 
 and laughter\nHonoring this year's HaBonim Award recipients\nAmy Baker & J
 oanne Bloom.\nSaturday\, February 25th\n6:00 pm
DTSTART;TZID=America/Denver:20170225T180000
DTEND;TZID=America/Denver:20170225T223000
END:VEVENT
END:VCALENDAR
