BEGIN:VCALENDAR
PRODID:-//eluceo/ical//2.0/EN
VERSION:2.0
CALSCALE:GREGORIAN
BEGIN:VEVENT
UID:694442d4a8daeea082481a2be3bc3ca0
DTSTAMP:20260420T143442Z
SUMMARY:Temple Har Shalom's 25th Anniversary Dinner
DESCRIPTION:United Jewish Federation of Utah\nCalendar\nhttps://shalomutah.
 org/united-jewish-federation-of-utah-calendar/temple-har-shaloms-25th-anni
 versary-dinner-1572284997\n\nLet's celebrate together!
DTSTART;TZID=America/Denver:20200718T180000
DTEND;TZID=America/Denver:20200718T200000
END:VEVENT
END:VCALENDAR
