BEGIN:VCALENDAR
PRODID:-//eluceo/ical//2.0/EN
VERSION:2.0
CALSCALE:GREGORIAN
BEGIN:VEVENT
UID:a1e07fd0db565cf11b3355e514ff73a5
DTSTAMP:20260420T011437Z
SUMMARY:The Beauty of The Struggle
DESCRIPTION:United Jewish Federation of Utah\nCalendar\nhttps://shalomutah.
 org/united-jewish-federation-of-utah-calendar/the-beauty-of-the-struggle-1
 484164804\n\nThe Beauty of the Struggle\nImperfection is human. Yet little
  makes us feel worse than our\nmoral deficiencies. Our less-than-noble tho
 ughts and feelings lead to inner turmoil and lowered self-perception\, ham
 pering our motivation to grow and change.\nHow can we remain motivated tow
 ard change and uphold a pos-itive view of ourselves while battling dejecti
 on over our constant struggles with our flaws? This lesson explores how we
  can re-frame our deficiencies as inspiring pathways to personal gr...
DTSTART;TZID=America/Denver:20170223T193000
DTEND;TZID=America/Denver:20170223T210000
END:VEVENT
END:VCALENDAR
