BEGIN:VCALENDAR
PRODID:-//eluceo/ical//2.0/EN
VERSION:2.0
CALSCALE:GREGORIAN
BEGIN:VEVENT
UID:d9bb0955993fa78e3a738d5e7c732cfb
DTSTAMP:20260421T075532Z
SUMMARY:The Braid: Out Loud\; First Showing
DESCRIPTION:United Jewish Federation of Utah\nCalendar\nhttps://shalomutah.
 org/united-jewish-federation-of-utah-calendar/the-braid-out-now\n\nRisk it
  all to be yourself! See these daring stories of the Jewish LGBTQIA+ commu
 nity in Out Loud\, a new work of theatre from The Braid.\n\nReal experienc
 es\, brought to life by professional actors.\n\nUnited Jewish Federation o
 f Utah is providing free tickets to the newest performance from the Braid!
 \n\nFollow the steps below to claim your free ticket:\n\nGo to the-braid.o
 rg/outloud\, and click on the March 19th or March 26th performance and use
  the code utahjf2 on the Checkout Page and hit th...
DTSTART;TZID=America/Denver:20230319T120000
DTEND;TZID=America/Denver:20230319T140000
END:VEVENT
END:VCALENDAR
