BEGIN:VCALENDAR
PRODID:-//eluceo/ical//2.0/EN
VERSION:2.0
CALSCALE:GREGORIAN
BEGIN:VEVENT
UID:a12d75da4a5de0c7e4f91fc330062a90
DTSTAMP:20260423T102118Z
SUMMARY:The Braid: Remembrance of Things Present Showing 2
DESCRIPTION:United Jewish Federation of Utah\nCalendar\nhttps://shalomutah.
 org/united-jewish-federation-of-utah-calendar/the-braid-remembrance-of-thi
 ngs-past\n\nThe Braid Presents: Remembrance of Things Present\n\nJanuary 2
 9th @ 12 PM MDT & February 5th @ 5 PM MDT\n\nVia Zoom (Register at the lin
 k below to receive zoom link)\n\nThe Federation is proud to offer these in
 spiring and unexpected stories from the children and grandchildren of Holo
 caust survivors. See "Remembrance of Things Present\," a new work of theat
 re from The Braid\, live on Zoom Sunday\, Jan. 29 at 12 MT and Sunday\, Fe
 b. 5\, at 5 pm MT.\n\nReal experiences\, brought to life by profe...
DTSTART;TZID=America/Denver:20230205T170000
DTEND;TZID=America/Denver:20230205T190000
END:VEVENT
END:VCALENDAR
